BEGIN:VCALENDAR
VERSION:2.0
PRODID:-//Lincoln Square Theater – Decatur’s Historic Entertainment LandmarkLincoln Square Theater – Decatur’s Historic Entertainment LandmarkLincoln Square Theater – Decatur’s Historic Entertainment Landmark - ECPv6.15.20//NONSGML v1.0//EN
CALSCALE:GREGORIAN
METHOD:PUBLISH
X-WR-CALNAME:Lincoln Square Theater – Decatur’s Historic Entertainment LandmarkLincoln Square Theater – Decatur’s Historic Entertainment LandmarkLincoln Square Theater – Decatur’s Historic Entertainment Landmark
X-ORIGINAL-URL:https://lstevents.com
X-WR-CALDESC:Events for Lincoln Square Theater – Decatur’s Historic Entertainment LandmarkLincoln Square Theater – Decatur’s Historic Entertainment LandmarkLincoln Square Theater – Decatur’s Historic Entertainment Landmark
REFRESH-INTERVAL;VALUE=DURATION:PT1H
X-Robots-Tag:noindex
X-PUBLISHED-TTL:PT1H
BEGIN:VTIMEZONE
TZID:America/New_York
BEGIN:DAYLIGHT
TZOFFSETFROM:-0500
TZOFFSETTO:-0400
TZNAME:EDT
DTSTART:20240310T070000
END:DAYLIGHT
BEGIN:STANDARD
TZOFFSETFROM:-0400
TZOFFSETTO:-0500
TZNAME:EST
DTSTART:20241103T060000
END:STANDARD
BEGIN:DAYLIGHT
TZOFFSETFROM:-0500
TZOFFSETTO:-0400
TZNAME:EDT
DTSTART:20250309T070000
END:DAYLIGHT
BEGIN:STANDARD
TZOFFSETFROM:-0400
TZOFFSETTO:-0500
TZNAME:EST
DTSTART:20251102T060000
END:STANDARD
BEGIN:DAYLIGHT
TZOFFSETFROM:-0500
TZOFFSETTO:-0400
TZNAME:EDT
DTSTART:20260308T070000
END:DAYLIGHT
BEGIN:STANDARD
TZOFFSETFROM:-0400
TZOFFSETTO:-0500
TZNAME:EST
DTSTART:20261101T060000
END:STANDARD
END:VTIMEZONE
BEGIN:VEVENT
DTSTART;TZID=America/New_York:20250827T020000
DTEND;TZID=America/New_York:20250827T185900
DTSTAMP:20260420T090446
CREATED:20171101T130000Z
LAST-MODIFIED:20250610T004233Z
UID:10805-1756260000-1756321140@lstevents.com
SUMMARY:Billy Bob Thornton & The Boxmasters w/special guests: Fran Moran & The Nervous Wrecks Presented by Airking Inc. HVAC of Illinois
DESCRIPTION: The Boxmasters release “‘Pepper Tree Hill” Album and\n                                       “2025 Pepper Tree Hill Tour” Dates \nIn conjunction with the release of their newest album on July 11th\, “Pepper Tree Hill”\,\nThe Boxmasters will follow by kicking off a tour of the United States in August. This marks\ntheir 19th release as the ever-prolific J.D. Andrew and Bud Thornton showcase their love as\nalways for the sounds of the sixties and the inspiration of their studio on an album called “Pepper\nTree Hill.”\n“Abbey Road was the studio the Beatles recorded their album “Abbey Road” in and are a\nhuge influence on us\,” says Bud. “In a way \, since our studio is called Pepper Tree Hill \, you\ncould say this is our Abbey Road and you can hear odes to our influences the British Invasion\nincluding the Beatles\, Badfinger\, The Kinks etc.”\nJoining The Boxmasters on the title cut “Pepper Tree Hill” is the legendary trumpeter and\nbandleader Herb Alpert. “I talked to Herb on the phone and he asked what we were up to and\ntold him we were recording a new album and he said to send him a song. He sent it back right\naway with an immediately recognizable part that you instantly know is Herb Alpert.” Says Bud.\nAlso joining on the song “Pepper Tree Hill” is longtime collaborator and Boxmaster alum\nBrad Davis. “Brad was out at the studio while we were working on another album with him and\nwe thought that “Pepper Tree Hill” would be a great song to have him play guitar on and of\ncourse he played an amazing part.” Says J.D.\nAside from the song “Pepper Tree Hill”\, the rest of the album contains all of the familiar\nsounds of the sixties that The Boxmasters are fond of.\nThe “2025 Pepper Tree Hill Tour” starts in Myrtle Beach\, South Carolina on August 20th\nand ends in Los Angeles on October 19th. Some familiar stops like in Kansas City at\nKnuckleheads\, and Tomball\, TX at Main Street Crossing are joined by 5 nights at the Bourbon\nand Bonfire weekends in Livingston\, Montana.\nFormed in 2006\, The Boxmasters have recorded an impressive and diverse catalogue of\nmusic that touches on their love of a wide array of influences\, but most importantly\, the rock and\nroll of the 1960’s. Listening to The Boxmasters\, one can hear obvious odes to the Beatles\, Byrds\nand Beach Boys\, but also important to The Boxmasters are The Mothers of Invention\, The\nAllman Brothers\, Kris Kristofferson\, John Prine and Big Star.\nAs a touring band\, The Boxmasters have cultivated a rabid cult fanbase across the United\nStates\, Canada and now Europe and the United Kingdom. Opening for the likes of ZZ Top\,\nSteve Miller\, George Thorogood and Bubbles and The Sh*t Rockers\, The Boxmasters have\nproven to win over large audiences. As a headliner\, frequent stops in Kansas City at\n“Knuckleheads”\, Los Angeles at “The Troubadour” and in Sellersville\, PA at the “Sellersville\nTheater” have shown dedicated yet still growing audiences. Two appearances at Levon Helm’s\n“Midnight Ramble” in Woodstock\, New York were highlight performances for the band\, as well\nas the “Ramble at The Ryman” that Levon hosted in 2008. Other highlights include The\nBoxmasters performing on “The Grand Ole Opry” in 2015\, and in 2023 The Boxmasters fulfilled\na life-long dream of playing The Cavern Club in Liverpool. Special guests will be: Fran Moran & The Nervous Wrecks. For more information call: 217-454-4583\nBuy Ticket
URL:https://lstevents.com/event/billy-bob-thornton-the-boxmasters-w-special-guests-fran-moran-the-nervous-wrecks-presented-by-airking-inc-hvac-of-illinois/
LOCATION:Lincoln Square Theater\, 141 N Main St\, Decatur\, IL\, 62523\, United States
CATEGORIES:Program
ATTACH;FMTTYPE=image/jpeg:https://lstevents.com/wp-content/uploads/2017/11/500139101_693572300072715_7694575452496156532_n-e1749498085456.jpg
ORGANIZER;CN="Lincoln Square Theater":MAILTO:hello@lincolnsquaretheater.com
END:VEVENT
END:VCALENDAR