BEGIN:VCALENDAR
VERSION:2.0
PRODID:-//Lincoln Square Theater – Decatur’s Historic Entertainment LandmarkLincoln Square Theater – Decatur’s Historic Entertainment LandmarkLincoln Square Theater – Decatur’s Historic Entertainment Landmark - ECPv6.15.20//NONSGML v1.0//EN
CALSCALE:GREGORIAN
METHOD:PUBLISH
X-WR-CALNAME:Lincoln Square Theater – Decatur’s Historic Entertainment LandmarkLincoln Square Theater – Decatur’s Historic Entertainment LandmarkLincoln Square Theater – Decatur’s Historic Entertainment Landmark
X-ORIGINAL-URL:https://lstevents.com
X-WR-CALDESC:Events for Lincoln Square Theater – Decatur’s Historic Entertainment LandmarkLincoln Square Theater – Decatur’s Historic Entertainment LandmarkLincoln Square Theater – Decatur’s Historic Entertainment Landmark
REFRESH-INTERVAL;VALUE=DURATION:PT1H
X-Robots-Tag:noindex
X-PUBLISHED-TTL:PT1H
BEGIN:VTIMEZONE
TZID:America/New_York
BEGIN:DAYLIGHT
TZOFFSETFROM:-0500
TZOFFSETTO:-0400
TZNAME:EDT
DTSTART:20240310T070000
END:DAYLIGHT
BEGIN:STANDARD
TZOFFSETFROM:-0400
TZOFFSETTO:-0500
TZNAME:EST
DTSTART:20241103T060000
END:STANDARD
BEGIN:DAYLIGHT
TZOFFSETFROM:-0500
TZOFFSETTO:-0400
TZNAME:EDT
DTSTART:20250309T070000
END:DAYLIGHT
BEGIN:STANDARD
TZOFFSETFROM:-0400
TZOFFSETTO:-0500
TZNAME:EST
DTSTART:20251102T060000
END:STANDARD
BEGIN:DAYLIGHT
TZOFFSETFROM:-0500
TZOFFSETTO:-0400
TZNAME:EDT
DTSTART:20260308T070000
END:DAYLIGHT
BEGIN:STANDARD
TZOFFSETFROM:-0400
TZOFFSETTO:-0500
TZNAME:EST
DTSTART:20261101T060000
END:STANDARD
END:VTIMEZONE
BEGIN:VEVENT
DTSTART;TZID=America/New_York:20251221T140000
DTEND;TZID=America/New_York:20251221T170000
DTSTAMP:20260420T065434
CREATED:20251028T161059Z
LAST-MODIFIED:20251213T152051Z
UID:18108-1766325600-1766336400@lstevents.com
SUMMARY:Christmas with Elvis featuring Scott Wattles & The Blue Suede Crew
DESCRIPTION:BACK BY POPULAR DEMAND! “CHRISTMAS with ELVIS” featuring Scott Wattles & The Blue Suede Crew!  They have become a household name across Central Illinois for their Elvis tribute show\, and we’re excited to bring them back for their Christmas & Gospel show on Sunday Matinee\, December 21\, 2025. This will be a great day of classic Elvis\, just in time for Christmas! \nDoors will open at 1:00 pm with the show starting precisely at 2:00. \nDON’T MISS OUT! For more information call: 217-454-4583 \nGet Tickets
URL:https://lstevents.com/event/christmas-with-elvis-featuring-scott-wattles-the-blue-suede-crew/
LOCATION:Lincoln Square Theater\, 141 N Main St\, Decatur\, IL\, 62523\, United States
CATEGORIES:Program
ATTACH;FMTTYPE=image/jpeg:https://lstevents.com/wp-content/uploads/2025/10/597781270_851997047563572_1324650178441239354_n.jpg
END:VEVENT
END:VCALENDAR