BEGIN:VCALENDAR
VERSION:2.0
PRODID:-//Lincoln Square Theater – Decatur’s Historic Entertainment LandmarkLincoln Square Theater – Decatur’s Historic Entertainment LandmarkLincoln Square Theater – Decatur’s Historic Entertainment Landmark - ECPv6.15.20//NONSGML v1.0//EN
CALSCALE:GREGORIAN
METHOD:PUBLISH
X-WR-CALNAME:Lincoln Square Theater – Decatur’s Historic Entertainment LandmarkLincoln Square Theater – Decatur’s Historic Entertainment LandmarkLincoln Square Theater – Decatur’s Historic Entertainment Landmark
X-ORIGINAL-URL:https://lstevents.com
X-WR-CALDESC:Events for Lincoln Square Theater – Decatur’s Historic Entertainment LandmarkLincoln Square Theater – Decatur’s Historic Entertainment LandmarkLincoln Square Theater – Decatur’s Historic Entertainment Landmark
REFRESH-INTERVAL;VALUE=DURATION:PT1H
X-Robots-Tag:noindex
X-PUBLISHED-TTL:PT1H
BEGIN:VTIMEZONE
TZID:America/New_York
BEGIN:DAYLIGHT
TZOFFSETFROM:-0500
TZOFFSETTO:-0400
TZNAME:EDT
DTSTART:20240310T070000
END:DAYLIGHT
BEGIN:STANDARD
TZOFFSETFROM:-0400
TZOFFSETTO:-0500
TZNAME:EST
DTSTART:20241103T060000
END:STANDARD
BEGIN:DAYLIGHT
TZOFFSETFROM:-0500
TZOFFSETTO:-0400
TZNAME:EDT
DTSTART:20250309T070000
END:DAYLIGHT
BEGIN:STANDARD
TZOFFSETFROM:-0400
TZOFFSETTO:-0500
TZNAME:EST
DTSTART:20251102T060000
END:STANDARD
BEGIN:DAYLIGHT
TZOFFSETFROM:-0500
TZOFFSETTO:-0400
TZNAME:EDT
DTSTART:20260308T070000
END:DAYLIGHT
BEGIN:STANDARD
TZOFFSETFROM:-0400
TZOFFSETTO:-0500
TZNAME:EST
DTSTART:20261101T060000
END:STANDARD
END:VTIMEZONE
BEGIN:VEVENT
DTSTART;TZID=America/New_York:20251018T130000
DTEND;TZID=America/New_York:20251018T163000
DTSTAMP:20260420T102549
CREATED:20250606T041840Z
LAST-MODIFIED:20250927T014703Z
UID:16280-1760792400-1760805000@lstevents.com
SUMMARY:Crybaby & Kiss The Sky - Janis Joplin & Jimi Hendrix Experience
DESCRIPTION:TWO LEGENDS UNDER ONE ROOF!!! If there was ever two artists you would have loved to have seen at Woodstock back in 1969\, it would most definitely be none other than Janis Joplin & Jimi Hendrix! Two legendary artists that left us too soon at the young age of 27 years old. Well…fast forward to 2025\, after an incredible performance in 2024\, you’re now going to get your chance again to see Janis & Jimi in the form of an experience you will not believe! ‘CRYBABY’ – The Janis Joplin Experience & ‘KISS THE SKY’ – The Worlds Greatest Jimi Hendrix Re-Experience\, both in one night will leave you blown away! Presented by the Decatur Area Convention & Visitors Bureau\, these two artists and their bands are dubbed as the greatest and most accurate tributes there is!\n\nThis will be a show you absolutely do not want to miss!\n\nDoors will open at 6:00 pm with show starting promptly at 7:00 pm (cst).\n\nDON’T MISS OUT! For more information call: 217-454-4583\nBuy Ticket
URL:https://lstevents.com/event/crybaby-kiss-the-sky-janis-joplin-jimi-hendrix-experience/
LOCATION:Lincoln Square Theater\, 141 N Main St\, Decatur\, IL\, 62523\, United States
CATEGORIES:Program
ATTACH;FMTTYPE=image/jpeg:https://lstevents.com/wp-content/uploads/2025/06/486395080_645650191531593_4621284632113731641_n.jpg
ORGANIZER;CN="Lincoln Square Theater":MAILTO:hello@lincolnsquaretheater.com
END:VEVENT
END:VCALENDAR