BEGIN:VCALENDAR
VERSION:2.0
PRODID:-//Lincoln Square Theater – Decatur’s Historic Entertainment LandmarkLincoln Square Theater – Decatur’s Historic Entertainment LandmarkLincoln Square Theater – Decatur’s Historic Entertainment Landmark - ECPv6.15.20//NONSGML v1.0//EN
CALSCALE:GREGORIAN
METHOD:PUBLISH
X-WR-CALNAME:Lincoln Square Theater – Decatur’s Historic Entertainment LandmarkLincoln Square Theater – Decatur’s Historic Entertainment LandmarkLincoln Square Theater – Decatur’s Historic Entertainment Landmark
X-ORIGINAL-URL:https://lstevents.com
X-WR-CALDESC:Events for Lincoln Square Theater – Decatur’s Historic Entertainment LandmarkLincoln Square Theater – Decatur’s Historic Entertainment LandmarkLincoln Square Theater – Decatur’s Historic Entertainment Landmark
REFRESH-INTERVAL;VALUE=DURATION:PT1H
X-Robots-Tag:noindex
X-PUBLISHED-TTL:PT1H
BEGIN:VTIMEZONE
TZID:America/New_York
BEGIN:DAYLIGHT
TZOFFSETFROM:-0500
TZOFFSETTO:-0400
TZNAME:EDT
DTSTART:20240310T070000
END:DAYLIGHT
BEGIN:STANDARD
TZOFFSETFROM:-0400
TZOFFSETTO:-0500
TZNAME:EST
DTSTART:20241103T060000
END:STANDARD
BEGIN:DAYLIGHT
TZOFFSETFROM:-0500
TZOFFSETTO:-0400
TZNAME:EDT
DTSTART:20250309T070000
END:DAYLIGHT
BEGIN:STANDARD
TZOFFSETFROM:-0400
TZOFFSETTO:-0500
TZNAME:EST
DTSTART:20251102T060000
END:STANDARD
BEGIN:DAYLIGHT
TZOFFSETFROM:-0500
TZOFFSETTO:-0400
TZNAME:EDT
DTSTART:20260308T070000
END:DAYLIGHT
BEGIN:STANDARD
TZOFFSETFROM:-0400
TZOFFSETTO:-0500
TZNAME:EST
DTSTART:20261101T060000
END:STANDARD
END:VTIMEZONE
BEGIN:VEVENT
DTSTART;TZID=America/New_York:20250717T140000
DTEND;TZID=America/New_York:20250717T140000
DTSTAMP:20260420T091520
CREATED:20250606T024057Z
LAST-MODIFIED:20250610T003843Z
UID:16251-1752760800-1752760800@lstevents.com
SUMMARY:GET THE LED OUT - A Celebration Of "The Mighty Zep"
DESCRIPTION:The Historic Lincoln Square Theater is super excited to present ‘GET THE LED OUT’ – A Celebration Of “The Mighty Zep” GTLO! \nFrom the bombastic and epic\, to the folky and mystical\, Get The Led Out (GTLO) have captured the essence of the recorded music of Led Zeppelin and brought it to the concert stage. The Philadelphia-based group consists of six veteran musicians intent on delivering Led Zeppelin live\, like you’ve never heard before. Utilizing the multi-instrumentalists at their disposal\, GTLO re-create the songs in all their depth and glory with the studio overdubs that Zeppelin themselves never performed. When you hear three guitars on the album…GTLO delivers three guitarists on stage. No wigs or fake English accents\, GTLO brings what the audience wants…a high energy Zeppelin concert with an honest\, heartthumping intensity. Dubbed by the media as “The American Led Zeppelin\,” Get The Led Out offers a strong focus on the early years. They also touch on the deeper cuts that were seldom\, if ever heard in concert. GTLO also include a special “acoustic set” with Zep favorites such as “Tangerine” and “Hey Hey What Can I Do.” \nGTLO has amassed a strong national touring history\, having performed at major club and PAC venues across the country. GTLO’s approach to their performance of this hallowed catalog is not unlike a classical performance. “Led Zeppelin are sort of the classical composers of the rock era\,” says lead vocalist Paul Sinclair. “I believe 100 years from now they will be looked at as the Bach or Beethoven of our time. As cliché as it sounds\, their music is timeless.” \nA GTLO concert mimics the “light and shade” that are the embodiment of “The Mighty Zep.” Whether it’s the passion and fury with which they deliver the blues-soaked\, groovedriven rock anthems\, it’s their attention to detail and nuance that makes a Get The Led Out performance a truly awe-inspiring event! \nThis will be a show you absolutely do not want to miss! \nDoors will open at 6:00 pm with show starting promptly at 7:00 pm (cst). \nDON’T MISS OUT! For more information call: 217-454-4583\nBuy Ticket
URL:https://lstevents.com/event/get-the-led-out-a-celebration-of-the-mighty-zep/
LOCATION:Lincoln Square Theater\, 141 N Main St\, Decatur\, IL\, 62523\, United States
CATEGORIES:Program
ATTACH;FMTTYPE=image/jpeg:https://lstevents.com/wp-content/uploads/2025/06/500717942_693571753406103_5684876352892331104_n-1-e1749497912321.jpg
ORGANIZER;CN="Lincoln Square Theater":MAILTO:hello@lincolnsquaretheater.com
END:VEVENT
END:VCALENDAR