BEGIN:VCALENDAR
VERSION:2.0
PRODID:-//Lincoln Square Theater – Decatur’s Historic Entertainment LandmarkLincoln Square Theater – Decatur’s Historic Entertainment LandmarkLincoln Square Theater – Decatur’s Historic Entertainment Landmark - ECPv6.15.20//NONSGML v1.0//EN
CALSCALE:GREGORIAN
METHOD:PUBLISH
X-WR-CALNAME:Lincoln Square Theater – Decatur’s Historic Entertainment LandmarkLincoln Square Theater – Decatur’s Historic Entertainment LandmarkLincoln Square Theater – Decatur’s Historic Entertainment Landmark
X-ORIGINAL-URL:https://lstevents.com
X-WR-CALDESC:Events for Lincoln Square Theater – Decatur’s Historic Entertainment LandmarkLincoln Square Theater – Decatur’s Historic Entertainment LandmarkLincoln Square Theater – Decatur’s Historic Entertainment Landmark
REFRESH-INTERVAL;VALUE=DURATION:PT1H
X-Robots-Tag:noindex
X-PUBLISHED-TTL:PT1H
BEGIN:VTIMEZONE
TZID:America/New_York
BEGIN:DAYLIGHT
TZOFFSETFROM:-0500
TZOFFSETTO:-0400
TZNAME:EDT
DTSTART:20250309T070000
END:DAYLIGHT
BEGIN:STANDARD
TZOFFSETFROM:-0400
TZOFFSETTO:-0500
TZNAME:EST
DTSTART:20251102T060000
END:STANDARD
BEGIN:DAYLIGHT
TZOFFSETFROM:-0500
TZOFFSETTO:-0400
TZNAME:EDT
DTSTART:20260308T070000
END:DAYLIGHT
BEGIN:STANDARD
TZOFFSETFROM:-0400
TZOFFSETTO:-0500
TZNAME:EST
DTSTART:20261101T060000
END:STANDARD
BEGIN:DAYLIGHT
TZOFFSETFROM:-0500
TZOFFSETTO:-0400
TZNAME:EDT
DTSTART:20270314T070000
END:DAYLIGHT
BEGIN:STANDARD
TZOFFSETFROM:-0400
TZOFFSETTO:-0500
TZNAME:EST
DTSTART:20271107T060000
END:STANDARD
END:VTIMEZONE
BEGIN:VEVENT
DTSTART;TZID=America/New_York:20260411T190000
DTEND;TZID=America/New_York:20260411T220000
DTSTAMP:20260420T065744
CREATED:20251215T145504Z
LAST-MODIFIED:20251215T145504Z
UID:18234-1775934000-1775944800@lstevents.com
SUMMARY:HEARTACHE TONIGHT - A Tribute to the Eagles
DESCRIPTION:The Decatur Area Convention & Visitors Bureau Presents ‘Heartache Tonight’ – A Tribute to the Eagles! Replicating arguably one of the greatest bands of all time\, The Eagles! They will perform studio versions of all the greatest hits from the late Glen Frey\, Randy Meisner\, Don Henley\, Joe Walsh\, Timothy B. Schmidt\, Don Felder\, Deacon Frey & Vince Gill.\nThis is just another quality show that is part of the ongoing 2026 Tribute Concert Series Presented by DACVB on Saturday April 11th\, 2026. Doors to open at 6:00 pm with show starting precisely at 7:00 pm. Don’t hesitate as this is an amazing tribute to the Eagles! Get your tickets fast as ‘Heartache Tonight’ brings in a large crowd!\n\nFrom the powerful guitar duel in “Hotel California” to the shimmering harmonies of “Peaceful Easy Feeling” a Heartache Tonight show is a true Eagles concert experience featuring all the timeless classic songs from one of the greatest rock bands of all time. \n\n\n\n\nWith meticulous attention to every detail\, Heartache Tonight brings together music from all eras and incarnations of this huge American rock powerhouse that produced hits over four decades. \nA Heartache Tonight concert is filled with moments designed to thrill classic rock fans: the soaring a cappella harmonies of “Seven Bridges Road\,” the snarling guitars of “Life In The Fast Lane\,” the anthemic country rock of “Take It Easy\,” and Don Henley’s beautifully evocative “Heart Of The Matter.” \n\n\n\n\nClose your eyes and you’ll swear you’re hearing the real thing.\nFor more information: 217-454-4583 \n\nBUY TICKETS
URL:https://lstevents.com/event/heartache-tonight-a-tribute-to-the-eagles-3/
LOCATION:Lincoln Square Theater\, 141 N Main St\, Decatur\, IL\, 62523\, United States
CATEGORIES:Program
ATTACH;FMTTYPE=image/jpeg:https://lstevents.com/wp-content/uploads/2025/12/IMG_2429.jpg
ORGANIZER;CN="Lincoln Square Theater":MAILTO:hello@lincolnsquaretheater.com
END:VEVENT
END:VCALENDAR