BEGIN:VCALENDAR
VERSION:2.0
PRODID:-//Lincoln Square Theater – Decatur’s Historic Entertainment LandmarkLincoln Square Theater – Decatur’s Historic Entertainment LandmarkLincoln Square Theater – Decatur’s Historic Entertainment Landmark - ECPv6.15.20//NONSGML v1.0//EN
CALSCALE:GREGORIAN
METHOD:PUBLISH
X-WR-CALNAME:Lincoln Square Theater – Decatur’s Historic Entertainment LandmarkLincoln Square Theater – Decatur’s Historic Entertainment LandmarkLincoln Square Theater – Decatur’s Historic Entertainment Landmark
X-ORIGINAL-URL:https://lstevents.com
X-WR-CALDESC:Events for Lincoln Square Theater – Decatur’s Historic Entertainment LandmarkLincoln Square Theater – Decatur’s Historic Entertainment LandmarkLincoln Square Theater – Decatur’s Historic Entertainment Landmark
REFRESH-INTERVAL;VALUE=DURATION:PT1H
X-Robots-Tag:noindex
X-PUBLISHED-TTL:PT1H
BEGIN:VTIMEZONE
TZID:America/New_York
BEGIN:DAYLIGHT
TZOFFSETFROM:-0500
TZOFFSETTO:-0400
TZNAME:EDT
DTSTART:20240310T070000
END:DAYLIGHT
BEGIN:STANDARD
TZOFFSETFROM:-0400
TZOFFSETTO:-0500
TZNAME:EST
DTSTART:20241103T060000
END:STANDARD
BEGIN:DAYLIGHT
TZOFFSETFROM:-0500
TZOFFSETTO:-0400
TZNAME:EDT
DTSTART:20250309T070000
END:DAYLIGHT
BEGIN:STANDARD
TZOFFSETFROM:-0400
TZOFFSETTO:-0500
TZNAME:EST
DTSTART:20251102T060000
END:STANDARD
BEGIN:DAYLIGHT
TZOFFSETFROM:-0500
TZOFFSETTO:-0400
TZNAME:EDT
DTSTART:20260308T070000
END:DAYLIGHT
BEGIN:STANDARD
TZOFFSETFROM:-0400
TZOFFSETTO:-0500
TZNAME:EST
DTSTART:20261101T060000
END:STANDARD
END:VTIMEZONE
BEGIN:VEVENT
DTSTART;TZID=America/New_York:20250918T130000
DTEND;TZID=America/New_York:20250918T170000
DTSTAMP:20260420T091527
CREATED:20250617T232631Z
LAST-MODIFIED:20250911T164431Z
UID:16913-1758200400-1758214800@lstevents.com
SUMMARY:JEFFERSON STARSHIP 50th Anniversary\, Runaway Again Tour w/special guests: C4.2
DESCRIPTION:The Historic Lincoln Square Theater is pleased to welcome the legendary ‘JEFFERSON STARSHIP’ for their 50th Anniversary\, Runaway Again Tour on Thursday September 18th\, 2025\, with special guests: ‘C4.2’ \nJefferson Starship is one of the most successful arena rock bands of the ’70s and ’80s\, earning 3 platinum and 8 gold records\, as well as numerous Top 40 Billboard singles. As they celebrate their 50th anniversary\, the band reaches a rare milestone that only a few bands ever achieve. Founded by Paul Kantner in the ’70s\, Jefferson Starship was conceived as a collective of musical adventurers contributing to his epic concept albums and eventual catalog of rock classics. When the current lineup came together in 2012\, with many members having joined years earlier\, Kantner couldn’t have predicted the band would become the road-conquering force they are today. \nThe five members of Jefferson Starship often describe themselves as both a “family” and a “gang\,” and this sense of camaraderie shines through in their performances. Over the years\, they’ve played in all 50 U.S. states\, five continents\, and countless countries. A recent tour of New Zealand was noted as one of the band’s favorites\, and their live shows continue to offer a non-stop mix of rock hits. \nThe band’s current lineup includes original member David Freiberg\, drummer Donny Baldwin (who first joined in 1982)\, keyboardist Chris Smith (who joined in 1998)\, guitarist Jude Gold (who joined in 2012)\, and singer/guitarist Cathy Richardson (who joined in 2008 after Kantner saw her perform with Big Brother and the Holding Company). \nAs Jefferson Starship celebrates its 50th anniversary\, the band reflects on the legacy of Paul Kantner\, who passed away in 2016. The spirit of exploration and adventure he instilled in the band lives on in their music and performances. As Gold puts it\, “To me\, that ‘Paul Kantner thing’—getting on a rocket ship and blasting off into the unknown—is the very essence of Jefferson Starship. And that spirit is very much alive in the band today.” \n\n\nA concert not to be missed! For more information call: 217-454-4583\nDoors open at 6:00 PM\n\n\n\nBuy Ticket
URL:https://lstevents.com/event/jefferson-starship-50th-anniversary-runaway-again-tour-w-special-guests-c4-2/
LOCATION:Lincoln Square Theater\, 141 N Main St\, Decatur\, IL\, 62523\, United States
CATEGORIES:Program
ATTACH;FMTTYPE=image/jpeg:https://lstevents.com/wp-content/uploads/2025/06/542757084_770200432409901_3682721171740215007_n-e1757056040239.jpg
ORGANIZER;CN="Lincoln Square Theater":MAILTO:hello@lincolnsquaretheater.com
END:VEVENT
END:VCALENDAR