BEGIN:VCALENDAR
VERSION:2.0
PRODID:-//Lincoln Square Theater – Decatur’s Historic Entertainment LandmarkLincoln Square Theater – Decatur’s Historic Entertainment LandmarkLincoln Square Theater – Decatur’s Historic Entertainment Landmark - ECPv6.15.20//NONSGML v1.0//EN
CALSCALE:GREGORIAN
METHOD:PUBLISH
X-WR-CALNAME:Lincoln Square Theater – Decatur’s Historic Entertainment LandmarkLincoln Square Theater – Decatur’s Historic Entertainment LandmarkLincoln Square Theater – Decatur’s Historic Entertainment Landmark
X-ORIGINAL-URL:https://lstevents.com
X-WR-CALDESC:Events for Lincoln Square Theater – Decatur’s Historic Entertainment LandmarkLincoln Square Theater – Decatur’s Historic Entertainment LandmarkLincoln Square Theater – Decatur’s Historic Entertainment Landmark
REFRESH-INTERVAL;VALUE=DURATION:PT1H
X-Robots-Tag:noindex
X-PUBLISHED-TTL:PT1H
BEGIN:VTIMEZONE
TZID:America/New_York
BEGIN:DAYLIGHT
TZOFFSETFROM:-0500
TZOFFSETTO:-0400
TZNAME:EDT
DTSTART:20240310T070000
END:DAYLIGHT
BEGIN:STANDARD
TZOFFSETFROM:-0400
TZOFFSETTO:-0500
TZNAME:EST
DTSTART:20241103T060000
END:STANDARD
BEGIN:DAYLIGHT
TZOFFSETFROM:-0500
TZOFFSETTO:-0400
TZNAME:EDT
DTSTART:20250309T070000
END:DAYLIGHT
BEGIN:STANDARD
TZOFFSETFROM:-0400
TZOFFSETTO:-0500
TZNAME:EST
DTSTART:20251102T060000
END:STANDARD
BEGIN:DAYLIGHT
TZOFFSETFROM:-0500
TZOFFSETTO:-0400
TZNAME:EDT
DTSTART:20260308T070000
END:DAYLIGHT
BEGIN:STANDARD
TZOFFSETFROM:-0400
TZOFFSETTO:-0500
TZNAME:EST
DTSTART:20261101T060000
END:STANDARD
END:VTIMEZONE
BEGIN:VEVENT
DTSTART;TZID=America/New_York:20251031T140000
DTEND;TZID=America/New_York:20251031T170000
DTSTAMP:20260420T102559
CREATED:20250617T233703Z
LAST-MODIFIED:20250911T164632Z
UID:16919-1761919200-1761930000@lstevents.com
SUMMARY:'Kid Kentucky & the American Badass Band' - Kidrock Tribute Show
DESCRIPTION:As part of our 2025 tribute concert series\, presented by the Lincoln Square Theater\, we are super excited\, for the first time to welcome ‘KID KENTUCKY & the American Badass Band’ – A Tribute to Kidrock! Saturday October 31st\, 2025!\nKid Kentucky and the American Badass Band is the nation’s top Kid Rock tribute band\, astounding Kid Rock fans nationwide. And by astounding\, we do mean it’s quite an incredible Kid Rock experience when the band takes the stage. Each and every night\, audiences spend the first few songs of the show trying to grasp the concept that they are not actually seeing the real Kid Rock there in front of them! The cameras come out\, the jaws drop and the show kicks into high gear from the first note to the last\, with an overall experience as close to the real thing as you can get! \nTouring out of Nashville\, TN\, Kid K & TABB take their Kid Rock show north\, south\, east and west delivering the looks\, the sounds and party throwdown that Kid Rock fans have come to know and love from the real guy himself! Adorning their Kid Rock concert shirts and all the shindig you can handle\, the night covers the foray of Kid Rock hits weaving from rock\, to country\, to Kid Rock rap and everything in between\, always keeping the Kid Rock fans coming back for more. \nKid Kentucky and the American Badass Band have traveled from Montana to Maryland\, from Detroit to Tampa winning over Kid Rock fans\, and building their own fans along the way. “I have been a Kid Rock fan from the old days\, and never knew his music would be so popular that it could happen twice\,” says Don Suiters (a.k.a. Kid Kentucky). “His music has been a great inspiration and after seeing his concerts almost a dozen times\, his show has been too – thank you Kid Rock for making it all happen!” \nSpecial guests: TBA \nDoors – 6:00pm / Show – 7:00 pm \nDON’T MISS OUT! For more information call: 217-454-4583 \nBuy Ticket
URL:https://lstevents.com/event/kid-kentucky-the-american-badass-band-kidrock-tribute-show/
LOCATION:Lincoln Square Theater\, 141 N Main St\, Decatur\, IL\, 62523\, United States
CATEGORIES:Program
ATTACH;FMTTYPE=image/png:https://lstevents.com/wp-content/uploads/2025/06/Kid-Kentucky-1.png
ORGANIZER;CN="Lincoln Square Theater":MAILTO:hello@lincolnsquaretheater.com
END:VEVENT
END:VCALENDAR