BEGIN:VCALENDAR
VERSION:2.0
PRODID:-//Lincoln Square Theater – Decatur’s Historic Entertainment LandmarkLincoln Square Theater – Decatur’s Historic Entertainment LandmarkLincoln Square Theater – Decatur’s Historic Entertainment Landmark - ECPv6.15.20//NONSGML v1.0//EN
CALSCALE:GREGORIAN
METHOD:PUBLISH
X-WR-CALNAME:Lincoln Square Theater – Decatur’s Historic Entertainment LandmarkLincoln Square Theater – Decatur’s Historic Entertainment LandmarkLincoln Square Theater – Decatur’s Historic Entertainment Landmark
X-ORIGINAL-URL:https://lstevents.com
X-WR-CALDESC:Events for Lincoln Square Theater – Decatur’s Historic Entertainment LandmarkLincoln Square Theater – Decatur’s Historic Entertainment LandmarkLincoln Square Theater – Decatur’s Historic Entertainment Landmark
REFRESH-INTERVAL;VALUE=DURATION:PT1H
X-Robots-Tag:noindex
X-PUBLISHED-TTL:PT1H
BEGIN:VTIMEZONE
TZID:America/New_York
BEGIN:DAYLIGHT
TZOFFSETFROM:-0500
TZOFFSETTO:-0400
TZNAME:EDT
DTSTART:20250309T070000
END:DAYLIGHT
BEGIN:STANDARD
TZOFFSETFROM:-0400
TZOFFSETTO:-0500
TZNAME:EST
DTSTART:20251102T060000
END:STANDARD
BEGIN:DAYLIGHT
TZOFFSETFROM:-0500
TZOFFSETTO:-0400
TZNAME:EDT
DTSTART:20260308T070000
END:DAYLIGHT
BEGIN:STANDARD
TZOFFSETFROM:-0400
TZOFFSETTO:-0500
TZNAME:EST
DTSTART:20261101T060000
END:STANDARD
BEGIN:DAYLIGHT
TZOFFSETFROM:-0500
TZOFFSETTO:-0400
TZNAME:EDT
DTSTART:20270314T070000
END:DAYLIGHT
BEGIN:STANDARD
TZOFFSETFROM:-0400
TZOFFSETTO:-0500
TZNAME:EST
DTSTART:20271107T060000
END:STANDARD
END:VTIMEZONE
BEGIN:VEVENT
DTSTART;TZID=America/New_York:20261010T190000
DTEND;TZID=America/New_York:20261010T210000
DTSTAMP:20260424T094456
CREATED:20260423T234314Z
LAST-MODIFIED:20260423T235304Z
UID:18433-1791658800-1791666000@lstevents.com
SUMMARY:MAMMA MANIA-New York City's Premier ABBA Celebration
DESCRIPTION:The Historic Lincoln Square Theater is very happy to announce the return of ‘Mamma Mania’\, New York City’s Premier Abba Celebration\, the #1 ABBA experience to downtown Decatur\, IL. on Saturday October 10th\, 2026.\n\n\n\n\n\nPrepare to be transported back to the vibrant 1970s with 2026’s #1 booked ABBA Tribute! Mamma Mania brings the classic hits of one of pop music’s most iconic groups to life. With their dazzling costumes\, flawless harmonies\, and captivating stage presence\, this tribute captures the essence of ABBA’s unforgettable sound. \nFrom “Dancing Queen” to “Mamma Mia\,” fans will enjoy a night filled with nostalgia from a stellar cast of musicians! Performers include current or former touring members of: Mamma Mia – Official North American Tour\, Marc Martel’s Queen Extravaganza\, INXS\, Britney Spears\, Rob Thomas\, The Weeknd and many more! Mamma Mania! pays homage to ABBA’s legacy\, celebrating the timeless melodies and uplifting lyrics that have charmed listeners for generations. \nJoin us for an evening of music that showcases not only the incredible songs but also the joyful spirit of ABBA. Whether you’re a lifelong fan or new to their music\, this tribute promises to be an unforgettable experience filled with energy\, enthusiasm\, and plenty of dancing. Don’t miss your chance to be part of this extraordinary celebration of ABBA from some of New York’s finest!! \n\n\n\n\n\n\n\n\n\n\n\n\n\n\n\n\n\n\nDON’T MISS OUT! For more information call: 217-454-4583\n\nBUY TICKETS
URL:https://lstevents.com/event/mamma-mania-new-york-citys-premier-abba-celebration/
LOCATION:Lincoln Square Theater\, 141 N Main St\, Decatur\, IL\, 62523\, United States
CATEGORIES:Program
ATTACH;FMTTYPE=image/jpeg:https://lstevents.com/wp-content/uploads/2026/04/IMG_1871.jpg
END:VEVENT
END:VCALENDAR