BEGIN:VCALENDAR
VERSION:2.0
PRODID:-//Lincoln Square Theater – Decatur’s Historic Entertainment LandmarkLincoln Square Theater – Decatur’s Historic Entertainment LandmarkLincoln Square Theater – Decatur’s Historic Entertainment Landmark - ECPv6.15.20//NONSGML v1.0//EN
CALSCALE:GREGORIAN
METHOD:PUBLISH
X-WR-CALNAME:Lincoln Square Theater – Decatur’s Historic Entertainment LandmarkLincoln Square Theater – Decatur’s Historic Entertainment LandmarkLincoln Square Theater – Decatur’s Historic Entertainment Landmark
X-ORIGINAL-URL:https://lstevents.com
X-WR-CALDESC:Events for Lincoln Square Theater – Decatur’s Historic Entertainment LandmarkLincoln Square Theater – Decatur’s Historic Entertainment LandmarkLincoln Square Theater – Decatur’s Historic Entertainment Landmark
REFRESH-INTERVAL;VALUE=DURATION:PT1H
X-Robots-Tag:noindex
X-PUBLISHED-TTL:PT1H
BEGIN:VTIMEZONE
TZID:America/New_York
BEGIN:DAYLIGHT
TZOFFSETFROM:-0500
TZOFFSETTO:-0400
TZNAME:EDT
DTSTART:20240310T070000
END:DAYLIGHT
BEGIN:STANDARD
TZOFFSETFROM:-0400
TZOFFSETTO:-0500
TZNAME:EST
DTSTART:20241103T060000
END:STANDARD
BEGIN:DAYLIGHT
TZOFFSETFROM:-0500
TZOFFSETTO:-0400
TZNAME:EDT
DTSTART:20250309T070000
END:DAYLIGHT
BEGIN:STANDARD
TZOFFSETFROM:-0400
TZOFFSETTO:-0500
TZNAME:EST
DTSTART:20251102T060000
END:STANDARD
BEGIN:DAYLIGHT
TZOFFSETFROM:-0500
TZOFFSETTO:-0400
TZNAME:EDT
DTSTART:20260308T070000
END:DAYLIGHT
BEGIN:STANDARD
TZOFFSETFROM:-0400
TZOFFSETTO:-0500
TZNAME:EST
DTSTART:20261101T060000
END:STANDARD
END:VTIMEZONE
BEGIN:VEVENT
DTSTART;TZID=America/New_York:20250822T020000
DTEND;TZID=America/New_York:20250822T183000
DTSTAMP:20260420T085226
CREATED:20250617T231301Z
LAST-MODIFIED:20250819T143536Z
UID:16909-1755828000-1755887400@lstevents.com
SUMMARY:The Ultimate George Strait Tribute
DESCRIPTION:As part of our 2025 tribute concert series presented by 98.1 GRIZ FM\, we are super excited to welcome ‘STRAIT COUNTRY’ – A tribute to the legendary George Strait on Friday August 22nd\, 2025! \nDedicated to honoring the timeless music of the legendary George Strait\, Dallas-born Howard Decker tours nationwide delivering the iconic look\, the sound\, the essence and spirit of George Strait’s chart-topping music\, making every performance an unforgettable experience. \nWith Decker’s lifelong passion and admiration for George Strait’s legacy\, the Strait Country Tribute strives to recreate the magic of King George’s world-famous performances. From classics like “Amarillo By Morning” to heartfelt ballads like “Check Yes or No\,” Howard Decker brings the authenticity and charm that George Strait fans crave to see and hear. \n​Welcome to Strait Country Tribute\, your ultimate destination for the nation’s top fan-favorite tribute to George Strait! \n\n\nDoors – 6:00pm / Show – 7:00 pm\nDON’T MISS OUT! For more information call: 217-454-4583\nBuy Ticket
URL:https://lstevents.com/event/meet-howard-decker/
LOCATION:Lincoln Square Theater\, 141 N Main St\, Decatur\, IL\, 62523\, United States
CATEGORIES:Program
ATTACH;FMTTYPE=image/jpeg:https://lstevents.com/wp-content/uploads/2025/06/George-Straight.jpg
ORGANIZER;CN="Lincoln Square Theater":MAILTO:hello@lincolnsquaretheater.com
END:VEVENT
END:VCALENDAR