BEGIN:VCALENDAR
VERSION:2.0
PRODID:-//Lincoln Square Theater – Decatur’s Historic Entertainment LandmarkLincoln Square Theater – Decatur’s Historic Entertainment LandmarkLincoln Square Theater – Decatur’s Historic Entertainment Landmark - ECPv6.15.20//NONSGML v1.0//EN
CALSCALE:GREGORIAN
METHOD:PUBLISH
X-WR-CALNAME:Lincoln Square Theater – Decatur’s Historic Entertainment LandmarkLincoln Square Theater – Decatur’s Historic Entertainment LandmarkLincoln Square Theater – Decatur’s Historic Entertainment Landmark
X-ORIGINAL-URL:https://lstevents.com
X-WR-CALDESC:Events for Lincoln Square Theater – Decatur’s Historic Entertainment LandmarkLincoln Square Theater – Decatur’s Historic Entertainment LandmarkLincoln Square Theater – Decatur’s Historic Entertainment Landmark
REFRESH-INTERVAL;VALUE=DURATION:PT1H
X-Robots-Tag:noindex
X-PUBLISHED-TTL:PT1H
BEGIN:VTIMEZONE
TZID:America/New_York
BEGIN:DAYLIGHT
TZOFFSETFROM:-0500
TZOFFSETTO:-0400
TZNAME:EDT
DTSTART:20250309T070000
END:DAYLIGHT
BEGIN:STANDARD
TZOFFSETFROM:-0400
TZOFFSETTO:-0500
TZNAME:EST
DTSTART:20251102T060000
END:STANDARD
BEGIN:DAYLIGHT
TZOFFSETFROM:-0500
TZOFFSETTO:-0400
TZNAME:EDT
DTSTART:20260308T070000
END:DAYLIGHT
BEGIN:STANDARD
TZOFFSETFROM:-0400
TZOFFSETTO:-0500
TZNAME:EST
DTSTART:20261101T060000
END:STANDARD
BEGIN:DAYLIGHT
TZOFFSETFROM:-0500
TZOFFSETTO:-0400
TZNAME:EDT
DTSTART:20270314T070000
END:DAYLIGHT
BEGIN:STANDARD
TZOFFSETFROM:-0400
TZOFFSETTO:-0500
TZNAME:EST
DTSTART:20271107T060000
END:STANDARD
END:VTIMEZONE
BEGIN:VEVENT
DTSTART;TZID=America/New_York:20260116T200000
DTEND;TZID=America/New_York:20260116T230000
DTSTAMP:20260420T084422
CREATED:20251127T015446Z
LAST-MODIFIED:20251217T143908Z
UID:18140-1768593600-1768604400@lstevents.com
SUMMARY:SATISFACTION - The International Rolling Stones Tribute Show
DESCRIPTION:Here comes the most incredible Rolling Stones Experience you’ve ever saw\, without attending an actual Rolling Stones Concert! ‘SATISFACTION’\, The International Rolling Stones Tribute Show is credited as the most accurate rendition to Mick Jagger & The Rolling Stones on the planet! This show is January 16\, 2026!\nChris Legrand is the executive producer & cast member in the role of Mick Jagger. Chris founded the show nearly 25 years ago with the goal of producing the first touring tribute show in honor of the “Worlds Greatest Rock & Roll Band”. With over 40 years experience in the music industry and a bachelors in business\, Chris has grown the ‘Satisfaction Show’ into a 150 date annual touring entity. Hailing from Dallas-Ft. Worth\, this will be a must see!\n\nTickets often range from $300-3000 each for “real” Rolling Stones tickets\, and are definitely worth it to see the real thing\, however\, many people can’t afford or catch a concert in their area\, so here is your chance to see the next best thing!\n\nReturning back by popular demand\, this show is one of the most incredible shows of any type you’ll ever see\, let alone a tribute show!!!\n\nDON’T MISS OUT! For more information call: 217-454-4583 \n\n\nBUY TICKETS
URL:https://lstevents.com/event/satisfaction-the-international-rolling-stones-tribute-show-3/
LOCATION:Lincoln Square Theater\, 141 N Main St\, Decatur\, IL\, 62523\, United States
CATEGORIES:Program
ATTACH;FMTTYPE=image/jpeg:https://lstevents.com/wp-content/uploads/2025/11/Satisfaction_2022_IG.jpg
END:VEVENT
END:VCALENDAR