BEGIN:VCALENDAR
VERSION:2.0
PRODID:-//Lincoln Square Theater – Decatur’s Historic Entertainment LandmarkLincoln Square Theater – Decatur’s Historic Entertainment LandmarkLincoln Square Theater – Decatur’s Historic Entertainment Landmark - ECPv6.15.20//NONSGML v1.0//EN
CALSCALE:GREGORIAN
METHOD:PUBLISH
X-WR-CALNAME:Lincoln Square Theater – Decatur’s Historic Entertainment LandmarkLincoln Square Theater – Decatur’s Historic Entertainment LandmarkLincoln Square Theater – Decatur’s Historic Entertainment Landmark
X-ORIGINAL-URL:https://lstevents.com
X-WR-CALDESC:Events for Lincoln Square Theater – Decatur’s Historic Entertainment LandmarkLincoln Square Theater – Decatur’s Historic Entertainment LandmarkLincoln Square Theater – Decatur’s Historic Entertainment Landmark
REFRESH-INTERVAL;VALUE=DURATION:PT1H
X-Robots-Tag:noindex
X-PUBLISHED-TTL:PT1H
BEGIN:VTIMEZONE
TZID:America/New_York
BEGIN:DAYLIGHT
TZOFFSETFROM:-0500
TZOFFSETTO:-0400
TZNAME:EDT
DTSTART:20250309T070000
END:DAYLIGHT
BEGIN:STANDARD
TZOFFSETFROM:-0400
TZOFFSETTO:-0500
TZNAME:EST
DTSTART:20251102T060000
END:STANDARD
BEGIN:DAYLIGHT
TZOFFSETFROM:-0500
TZOFFSETTO:-0400
TZNAME:EDT
DTSTART:20260308T070000
END:DAYLIGHT
BEGIN:STANDARD
TZOFFSETFROM:-0400
TZOFFSETTO:-0500
TZNAME:EST
DTSTART:20261101T060000
END:STANDARD
BEGIN:DAYLIGHT
TZOFFSETFROM:-0500
TZOFFSETTO:-0400
TZNAME:EDT
DTSTART:20270314T070000
END:DAYLIGHT
BEGIN:STANDARD
TZOFFSETFROM:-0400
TZOFFSETTO:-0500
TZNAME:EST
DTSTART:20271107T060000
END:STANDARD
END:VTIMEZONE
BEGIN:VEVENT
DTSTART;TZID=America/New_York:20260504T190000
DTEND;TZID=America/New_York:20260504T210000
DTSTAMP:20260420T052148
CREATED:20251117T105025Z
LAST-MODIFIED:20251117T141742Z
UID:18124-1777921200-1777928400@lstevents.com
SUMMARY:TOAST - The Ultimate Bread Experience
DESCRIPTION:Who’s ready for a fresh slice of ‘TOAST’?  Toast is the No. 1 Tribute in the world to the 70’s hit band\, BREAD! Back by popular demand\, with a surprising fidelity\, rarely heard from a live tribute band\, their sound is often described as “spot on” to the original recordings. Audiences everywhere rave about how closely their live performances sound like the cherished records they listened to back in the day. “BREAD VIRTUALLY INVENTED soft rock in the early Seventies\, and the group’s biggest hits – ‘Make It With You\,’ ‘If\,’ ‘Baby I’m-a Want You’ and ‘Everything I Own’ – remain staples on lite-rock radio.” – Rolling Stone. \nThe inaugural TOAST appearance in 2024 was nearly a sellout on a Monday night. Now\, for their third appearance\, on May 4th\, 2026\, we are confident this will be a complete sellout! Don’t miss the opportunity to see & hear this amazing tribute to the late legendary Dave Gates & BREAD! This show is truly one of the best shows you’ll ever experience of any kind! \nDON’T MISS OUT! For more information call: 217-454-4583 \nBUY TICKETS
URL:https://lstevents.com/event/toast-the-ultimate-bread-experience-3/
LOCATION:Lincoln Square Theater\, 141 N Main St\, Decatur\, IL\, 62523\, United States
CATEGORIES:Program
ATTACH;FMTTYPE=image/jpeg:https://lstevents.com/wp-content/uploads/2025/11/IMG_0805.jpg
ORGANIZER;CN="Lincoln Square Theater":MAILTO:hello@lincolnsquaretheater.com
END:VEVENT
END:VCALENDAR