BEGIN:VCALENDAR
VERSION:2.0
PRODID:-//Lincoln Square Theater – Decatur’s Historic Entertainment LandmarkLincoln Square Theater – Decatur’s Historic Entertainment LandmarkLincoln Square Theater – Decatur’s Historic Entertainment Landmark - ECPv6.15.20//NONSGML v1.0//EN
CALSCALE:GREGORIAN
METHOD:PUBLISH
X-WR-CALNAME:Lincoln Square Theater – Decatur’s Historic Entertainment LandmarkLincoln Square Theater – Decatur’s Historic Entertainment LandmarkLincoln Square Theater – Decatur’s Historic Entertainment Landmark
X-ORIGINAL-URL:https://lstevents.com
X-WR-CALDESC:Events for Lincoln Square Theater – Decatur’s Historic Entertainment LandmarkLincoln Square Theater – Decatur’s Historic Entertainment LandmarkLincoln Square Theater – Decatur’s Historic Entertainment Landmark
REFRESH-INTERVAL;VALUE=DURATION:PT1H
X-Robots-Tag:noindex
X-PUBLISHED-TTL:PT1H
BEGIN:VTIMEZONE
TZID:America/New_York
BEGIN:DAYLIGHT
TZOFFSETFROM:-0500
TZOFFSETTO:-0400
TZNAME:EDT
DTSTART:20240310T070000
END:DAYLIGHT
BEGIN:STANDARD
TZOFFSETFROM:-0400
TZOFFSETTO:-0500
TZNAME:EST
DTSTART:20241103T060000
END:STANDARD
BEGIN:DAYLIGHT
TZOFFSETFROM:-0500
TZOFFSETTO:-0400
TZNAME:EDT
DTSTART:20250309T070000
END:DAYLIGHT
BEGIN:STANDARD
TZOFFSETFROM:-0400
TZOFFSETTO:-0500
TZNAME:EST
DTSTART:20251102T060000
END:STANDARD
BEGIN:DAYLIGHT
TZOFFSETFROM:-0500
TZOFFSETTO:-0400
TZNAME:EDT
DTSTART:20260308T070000
END:DAYLIGHT
BEGIN:STANDARD
TZOFFSETFROM:-0400
TZOFFSETTO:-0500
TZNAME:EST
DTSTART:20261101T060000
END:STANDARD
END:VTIMEZONE
BEGIN:VEVENT
DTSTART;TZID=America/New_York:20250920T190000
DTEND;TZID=America/New_York:20250920T220000
DTSTAMP:20260420T102107
CREATED:20250820T173626Z
LAST-MODIFIED:20250911T164409Z
UID:17996-1758394800-1758405600@lstevents.com
SUMMARY:Trick and Treats Premiere
DESCRIPTION:The Historic Lincoln Square Theater is honored to present the Premiere of “Trick and Treats”\, a Local Indie Horror Film\, on Saturday September 20th\, 2025\, just in time for Halloween! \nThe film is directed by Mt Zion Native Eric Hector and stars Malcolm McDowell (Clockwork Orange) with Gary Busey. (Lethal Weapon) \nThe movie was filmed on the soundstage at Mt Zion’s Heroic Age Art Center\, as well as on locations across Decatur\, Macon County\, and surrounding areas. \nTag Line \nPeter\, Peter\, pumpkin eater had a wife and couldn’t keep her. So\, he put her in a pumpkin shell\, and there he kept her very well. The trick is figuring out how many pieces you have to cut your wife into before she’ll fit inside a pumpkin. \n Short Synopsis \nOn Halloween\, Ashley and her friends find themselves locked in a biker bar\, facing torture & death. All is lost until Ashley hears the legendary jack-o-lantern “Trick” (Malcolm McDowell) whispering in her mind. Is he trying to help\, or is he merely a product of Ashley’s panicked imagination? The trick is figuring it out before everybody dies. \nEvent Timeline\n* Red Carpet and Photo Event         5:00 pm (CST)\n* Movie Starts                                     7:00 pm\n* (Optional Q&A after the movie)      8:45 pm \nDON’T MISS OUT! For additional information on Trick and Treats or to request an interview\, please contact Eric Hector. \nPhone: (217) 972-7867 \nBuy Ticket
URL:https://lstevents.com/event/trick-and-treats-premiere/
LOCATION:Lincoln Square Theater\, 141 N Main St\, Decatur\, IL\, 62523\, United States
CATEGORIES:Program
ATTACH;FMTTYPE=image/jpeg:https://lstevents.com/wp-content/uploads/2025/08/IMG_8408.jpg
ORGANIZER;CN="Lincoln Square Theater":MAILTO:hello@lincolnsquaretheater.com
END:VEVENT
END:VCALENDAR