BEGIN:VCALENDAR
VERSION:2.0
PRODID:-//Lincoln Square Theater – Decatur’s Historic Entertainment LandmarkLincoln Square Theater – Decatur’s Historic Entertainment LandmarkLincoln Square Theater – Decatur’s Historic Entertainment Landmark - ECPv6.15.20//NONSGML v1.0//EN
CALSCALE:GREGORIAN
METHOD:PUBLISH
X-WR-CALNAME:Lincoln Square Theater – Decatur’s Historic Entertainment LandmarkLincoln Square Theater – Decatur’s Historic Entertainment LandmarkLincoln Square Theater – Decatur’s Historic Entertainment Landmark
X-ORIGINAL-URL:https://lstevents.com
X-WR-CALDESC:Events for Lincoln Square Theater – Decatur’s Historic Entertainment LandmarkLincoln Square Theater – Decatur’s Historic Entertainment LandmarkLincoln Square Theater – Decatur’s Historic Entertainment Landmark
REFRESH-INTERVAL;VALUE=DURATION:PT1H
X-Robots-Tag:noindex
X-PUBLISHED-TTL:PT1H
BEGIN:VTIMEZONE
TZID:America/New_York
BEGIN:DAYLIGHT
TZOFFSETFROM:-0500
TZOFFSETTO:-0400
TZNAME:EDT
DTSTART:20250309T070000
END:DAYLIGHT
BEGIN:STANDARD
TZOFFSETFROM:-0400
TZOFFSETTO:-0500
TZNAME:EST
DTSTART:20251102T060000
END:STANDARD
BEGIN:DAYLIGHT
TZOFFSETFROM:-0500
TZOFFSETTO:-0400
TZNAME:EDT
DTSTART:20260308T070000
END:DAYLIGHT
BEGIN:STANDARD
TZOFFSETFROM:-0400
TZOFFSETTO:-0500
TZNAME:EST
DTSTART:20261101T060000
END:STANDARD
BEGIN:DAYLIGHT
TZOFFSETFROM:-0500
TZOFFSETTO:-0400
TZNAME:EDT
DTSTART:20270314T070000
END:DAYLIGHT
BEGIN:STANDARD
TZOFFSETFROM:-0400
TZOFFSETTO:-0500
TZNAME:EST
DTSTART:20271107T060000
END:STANDARD
END:VTIMEZONE
BEGIN:VEVENT
DTSTART;TZID=America/New_York:20261023T190000
DTEND;TZID=America/New_York:20261023T210000
DTSTAMP:20260424T093839
CREATED:20260423T235104Z
LAST-MODIFIED:20260423T235348Z
UID:18436-1792782000-1792789200@lstevents.com
SUMMARY:The Linda Ronstadt Experience
DESCRIPTION:As part of our 2026 “Tribute Concert Series” presented by Decatur Area Convention & Visitors Bureau\, we are super excited to welcome ‘The Linda Ronstadt Experience’ starring American Idol Finalist – Tristan McIntosh on Friday October 23rd\, 2026!\n\nAmerican Idol Star Tristan McIntosh creates a stunning portrayal of Linda Ronstadt in the prime of her career.\n\nSupported by a superb backing band\, Tristan’s formidable vocal talent and stage presence will transport you to a\ntime when Linda Ronstadt ruled the airwaves as one of the most popular female vocalists in music history. The\nLinda Ronstadt Experience takes you on a Musical Journey of Chart Topping Smash Hits\, “You’re No Good”\,\n“When Will I Be Loved”\, “That’ll Be The Day”\, “Blue Bayou” and many more classic hits by Jackson Brown\, Elvis\nCostello\, Tom Petty\, Neil Young\, Warren Zevon\, The Rolling Stones\, and Little Feat to name a few !\nThe Linda Ronstadt Experience with American Idol Star Tristan McIntosh is the premier touring tribute band\nshowcasing the songs that Linda Ronstadt made famous. The show takes you on a musical journey of\nsmash hit songs\, including “You’re No Good\,” “When Will I Be Loved\,” “That’ll Be the Day\,” and a particularly\ndelicate\, nuanced interpretation of “Blue Bayou\,” among many more. To convey the majesty and impact of\nMcIntosh’s powerful vocal quality is hard to put into words. She exudes poise and grace\, with a delivery both\nelectrifying and subtle\, by turns. Tristan brings the original singer’s version stunningly alive through her own\nartful touch. A sea of listeners throughout a theater can often be heard quietly singing along at the summit of\n“You’re No Good\,” drawing out that famous\, 8-second vowel. The LRE show is touring widely\, and becoming\never more popular\, earning increasingly sold-out houses. Catch them when—not if—you can. It’s a shining\nexperience that will buoy your days to come.\n\nBUY TICKETS
URL:https://lstevents.com/event/the-linda-ronstadt-experience/
LOCATION:Lincoln Square Theater\, 141 N Main St\, Decatur\, IL\, 62523\, United States
CATEGORIES:Program
ATTACH;FMTTYPE=image/jpeg:https://lstevents.com/wp-content/uploads/2026/04/LRE-2023.jpg
END:VEVENT
END:VCALENDAR