BEGIN:VCALENDAR
VERSION:2.0
PRODID:-//Lincoln Square Theater – Decatur’s Historic Entertainment LandmarkLincoln Square Theater – Decatur’s Historic Entertainment LandmarkLincoln Square Theater – Decatur’s Historic Entertainment Landmark - ECPv6.15.20//NONSGML v1.0//EN
CALSCALE:GREGORIAN
METHOD:PUBLISH
X-WR-CALNAME:Lincoln Square Theater – Decatur’s Historic Entertainment LandmarkLincoln Square Theater – Decatur’s Historic Entertainment LandmarkLincoln Square Theater – Decatur’s Historic Entertainment Landmark
X-ORIGINAL-URL:https://lstevents.com
X-WR-CALDESC:Events for Lincoln Square Theater – Decatur’s Historic Entertainment LandmarkLincoln Square Theater – Decatur’s Historic Entertainment LandmarkLincoln Square Theater – Decatur’s Historic Entertainment Landmark
REFRESH-INTERVAL;VALUE=DURATION:PT1H
X-Robots-Tag:noindex
X-PUBLISHED-TTL:PT1H
BEGIN:VTIMEZONE
TZID:America/New_York
BEGIN:DAYLIGHT
TZOFFSETFROM:-0500
TZOFFSETTO:-0400
TZNAME:EDT
DTSTART:20250309T070000
END:DAYLIGHT
BEGIN:STANDARD
TZOFFSETFROM:-0400
TZOFFSETTO:-0500
TZNAME:EST
DTSTART:20251102T060000
END:STANDARD
BEGIN:DAYLIGHT
TZOFFSETFROM:-0500
TZOFFSETTO:-0400
TZNAME:EDT
DTSTART:20260308T070000
END:DAYLIGHT
BEGIN:STANDARD
TZOFFSETFROM:-0400
TZOFFSETTO:-0500
TZNAME:EST
DTSTART:20261101T060000
END:STANDARD
BEGIN:DAYLIGHT
TZOFFSETFROM:-0500
TZOFFSETTO:-0400
TZNAME:EDT
DTSTART:20270314T070000
END:DAYLIGHT
BEGIN:STANDARD
TZOFFSETFROM:-0400
TZOFFSETTO:-0500
TZNAME:EST
DTSTART:20271107T060000
END:STANDARD
END:VTIMEZONE
BEGIN:VEVENT
DTSTART;TZID=America/New_York:20260507T190000
DTEND;TZID=America/New_York:20260507T220000
DTSTAMP:20260422T100635
CREATED:20260307T012801Z
LAST-MODIFIED:20260307T012939Z
UID:18311-1778180400-1778191200@lstevents.com
SUMMARY:'NAZARETH' with special guests: 'THE BABYS'
DESCRIPTION:Central Illinois…Get ready for one of the top rock n roll concerts of the year with none other than Scottish rock legends\, ‘NAZARETH’\, with extra special guests: ‘THE BABYS‘\, coming to the Historic Lincoln Square Theater on Thursday May 7th\, 2026. This show will be a sellout\, so don’t procrastinate on getting your tickets!\n\n\nNazareth rose from playing the pubs\, clubs and dance halls of their native Scotland to\nbecome one of the most successful rock bands in the world.\nThey were pioneers who took Scottish rock international paving the way for the many\nother great Scottish bands like Simple Minds\, Texas\, Big Country\, Del Amitri\, etc.\nThe original four members first came together in Pete Agnew’s band\n“The Shadettes” in 1968\, changed the name to ‘Nazareth’ in 1970 and from then went\non to record a string of hits worldwide.\nHaving recently released their 25th studio album (Surviving The Law) the band have\nbeen creating new music since the early 70’s right up to the present day and their\nrepertoire features hits spanning five decades.\n\nSongs like ‘Broken Down Angel’ – ‘Bad Bad Boy’ – ‘Turn On Your Receiver’ – \n‘My White Bicycle’ all made their mark on the world charts alongside the mega hits\n‘Dream On’ – ‘This Flight Tonight’ – ‘Hair Of The Dog’ and the one and only\n‘Love Hurts’.\nNot only have the band gained a massive following of fans\, many great artists claim that\nNazareth had a big influence on them with some even recording Nazareth songs.\n(Guns N’ Roses with ‘Hair Of The Dog’ and Metallica with ‘Please Don’t Judas Me’).\nBut although gratefully acknowledging the accolades for their recorded work\, Nazareth\nattribute their success mainly to touring\, touring and more touring and are still touring\nwith no intentions of ever stopping.\n\nTHE LINEUP TODAY CONSISTS OF:\nPETE AGNEW (bass player and original founding member)\nJIMMY MURRISON (longest serving guitarist in Nazareth’s history)\nLEE AGNEW (drummer since Darrel Sweet’s death in 1999)\nCARL SENTANCE (vocalist since 2015 after Dan McCafferty retired due to ill health)\n\n‘\nTHE BABYS\nBorn in 1975\, THE BABYS took on the classic rock world with a full stage musical experience\, giving rise to what quickly came to be known as their ‘signature sound’. THE BABYS had several Billboard chart-climbers that helped launch them into worldwide recognition\, carving out their permanent place in music history. THE BABYS have been back at it since 2012 – delivering  a live show packed with a musical journey of timeless hits that get the fans singing along with every song! Led by original member and legendary drummer Tony Brock – the iconic sound of THE BABYS take you on a nostalgic and scintillating journey of musical craftsmanship and rock and roll! Tony’s career through the years has had him rocking with other rock royalty – such as Rod Stewart\, Eddie Money\, Roy Orbison\, Bernie Taupin\, Jimmy Barnes and others. Come see\, feel and hear this entire timeless catalog performed live!   \nFOR TICKET OR MORE INFO: LSTevents.com or call 217-454-4583 \n\nBUY TICKETS
URL:https://lstevents.com/event/nazareth-with-special-guests-the-babys/
LOCATION:Lincoln Square Theater\, 141 N Main St\, Decatur\, IL\, 62523\, United States
CATEGORIES:Program
ATTACH;FMTTYPE=image/webp:https://lstevents.com/wp-content/uploads/2026/03/87860638227599313-2.webp
END:VEVENT
END:VCALENDAR